BEGIN:VCALENDAR
VERSION:2.0
PRODID:-//wp-events-plugin.com//7.2.3.1//EN
BEGIN:VEVENT
UID:739@carus-management.de
DTSTART;VALUE=DATE:20201113
DTEND;VALUE=DATE:20201115
DTSTAMP:20201023T112430Z
URL:https://www.carus-management.de/veranstaltungen/vtg-7-dresdner-aortens
 ymposium/
SUMMARY:VTG - 7. Dresdner Aortensymposium - abgesagt
DESCRIPTION:
LOCATION:HYPERION Hotel Dresden am Schloss\, Schlossstraße 16\, Dresden\, 
 01067\, Deutschland
X-APPLE-STRUCTURED-LOCATION;VALUE=URI;X-ADDRESS=Schlossstraße 16\, Dresden
 \, 01067\, Deutschland;X-APPLE-RADIUS=100;X-TITLE=HYPERION Hotel Dresden a
 m Schloss:geo:0,0
END:VEVENT
END:VCALENDAR