BEGIN:VCALENDAR
VERSION:2.0
PRODID:-//wp-events-plugin.com//7.2.3.1//EN
BEGIN:VEVENT
UID:1270@carus-management.de
DTSTART:20250924T180000Z
DTEND:20250924T203000Z
DTSTAMP:20250611T125833Z
URL:https://www.carus-management.de/veranstaltungen/vtg-64-klinischer-aben
 d/
SUMMARY:VTG - 64. Klinischer Abend "Update Ösophaguskarzinom"
DESCRIPTION:64.KA_aktuelles Programm Update Ösophaguskarzinom
LOCATION:Universitätsklinikum Dresden\, Fetscherstraße 74\, Dresden\, 013
 07\, Deutschland
X-APPLE-STRUCTURED-LOCATION;VALUE=URI;X-ADDRESS=Fetscherstraße 74\, Dresde
 n\, 01307\, Deutschland;X-APPLE-RADIUS=100;X-TITLE=Universitätsklinikum D
 resden:geo:0,0
END:VEVENT
END:VCALENDAR