BEGIN:VCALENDAR
VERSION:2.0
PRODID:-//wp-events-plugin.com//7.2.3.1//EN
BEGIN:VEVENT
UID:923@carus-management.de
DTSTART;VALUE=DATE:20220323
DTEND;VALUE=DATE:20220324
DTSTAMP:20220225T095219Z
URL:https://www.carus-management.de/veranstaltungen/vtg-47-klinischer-aben
 d/
SUMMARY:VTG - 47. Klinischer Abend
DESCRIPTION:Flyer - 47. Klinischer Abend 23.03.22
END:VEVENT
END:VCALENDAR