BEGIN:VCALENDAR
VERSION:2.0
PRODID:-//wp-events-plugin.com//7.2.3.1//EN
BEGIN:VEVENT
UID:699@carus-management.de
DTSTART:20200318T160000Z
DTEND:20200318T183000Z
DTSTAMP:20200318T131831Z
URL:https://www.carus-management.de/veranstaltungen/vtg-39-klinischer-aben
 d/
SUMMARY:VTG - 39. Klinischer Abend    -    ABGESAGT!
DESCRIPTION:aktualisierter Flyer - Klinischer Abend 18.03.20\n\nDie Veranst
 altung fällt aus!
END:VEVENT
END:VCALENDAR