BEGIN:VCALENDAR
VERSION:2.0
PRODID:-//wp-events-plugin.com//7.2.3.1//EN
BEGIN:VEVENT
UID:395@carus-management.de
DTSTART:20180829T160000Z
DTEND:20180829T183000Z
DTSTAMP:20180810T100112Z
URL:https://www.carus-management.de/veranstaltungen/vtg-31-klinischer-aben
 d/
SUMMARY:VTG - 31. Klinischer Abend
DESCRIPTION:Flyer-KlinischerAbend29.08.18_final_2
LOCATION:Universitätsklinikum Dresden\, Fetscherstraße 74\, Dresden\, 013
 07\, Deutschland
X-APPLE-STRUCTURED-LOCATION;VALUE=URI;X-ADDRESS=Fetscherstraße 74\, Dresde
 n\, 01307\, Deutschland;X-APPLE-RADIUS=100;X-TITLE=Universitätsklinikum D
 resden:geo:0,0
END:VEVENT
END:VCALENDAR