BEGIN:VCALENDAR
VERSION:2.0
PRODID:-//wp-events-plugin.com//7.2.3.1//EN
BEGIN:VEVENT
UID:33@carus-management.de
DTSTART:20180123T220000Z
DTEND:20180124T183000Z
DTSTAMP:20180416T122925Z
URL:https://www.carus-management.de/veranstaltungen/vtg-28-klinischer-aben
 d/
SUMMARY:VTG - 28. Klinischer Abend
DESCRIPTION:Flyer-KlinischerAbend24.01.18_final
END:VEVENT
END:VCALENDAR