BEGIN:VCALENDAR
VERSION:2.0
PRODID:-//wp-events-plugin.com//7.2.3.1//EN
BEGIN:VEVENT
UID:1040@carus-management.de
DTSTART:20230302T123000Z
DTEND:20230302T133000Z
DTSTAMP:20230220T095255Z
URL:https://www.carus-management.de/veranstaltungen/veranstaltungsreihe-ba
 siskurs-innere-medizin-2023-hybrid-thema-update-stationaeres-management-di
 abetes-mellitus/
SUMMARY:Veranstaltungsreihe Basiskurs Innere Medizin 2023 - hybrid\, Thema:
  Update stationäres Management Diabetes mellitus
DESCRIPTION:Programm_020323[fusion_builder_container type="flex" hundred_pe
 rcent="no" equal_height_columns="no" menu_anchor="" hide_on_mobile="small-
 visibility\,medium-visibility\,large-visibility" class="" id="" background
 _color="" background_image="" background_position="center center" backgrou
 nd_repeat="no-repeat" fade="no" background_parallax="none" parallax_speed=
 "0.3" video_mp4="" video_webm="" video_ogv="" video_url="" video_aspect_ra
 tio="16:9" video_loop="yes" video_mute="yes" overlay_color="" video_previe
 w_image="" border_color="" border_style="solid" padding_top="" padding_bot
 tom="" padding_left="" padding_right=""][fusion_builder_row][fusion_builde
 r_column type="1_1" layout="1_1" background_position="left top" background
 _color="" border_color="" border_style="solid" border_position="all" spaci
 ng="yes" background_image="" background_repeat="no-repeat" padding_top="" 
 padding_right="" padding_bottom="" padding_left="" margin_top="0px" margin
 _bottom="0px" class="" id="" animation_type="" animation_speed="0.3" anima
 tion_direction="left" hide_on_mobile="small-visibility\,medium-visibility\
 ,large-visibility" center_content="no" last="true" min_height="" hover_typ
 e="none" link="" border_sizes_top="" border_sizes_bottom="" border_sizes_l
 eft="" border_sizes_right="" first="true"][fusion_text]\n\n[/fusion_text][
 /fusion_builder_column][/fusion_builder_row][/fusion_builder_container]
LOCATION:Universitätsklinikum Dresden\, Fetscherstraße 74\, Dresden\, 013
 07\, Deutschland
X-APPLE-STRUCTURED-LOCATION;VALUE=URI;X-ADDRESS=Fetscherstraße 74\, Dresde
 n\, 01307\, Deutschland;X-APPLE-RADIUS=100;X-TITLE=Universitätsklinikum D
 resden:geo:0,0
END:VEVENT
END:VCALENDAR