BEGIN:VCALENDAR
VERSION:2.0
PRODID:-//wp-events-plugin.com//7.2.3.1//EN
BEGIN:VEVENT
UID:704@carus-management.de
DTSTART;VALUE=DATE:20200508
DTEND;VALUE=DATE:20200510
DTSTAMP:20200318T132502Z
URL:https://www.carus-management.de/veranstaltungen/uzm-young-scientists-i
 n-dentistry/
SUMMARY:UZM - Young Scientists in Dentistry - ABGESAGT!
DESCRIPTION:Weitere Informationen folgen in Kürze.
LOCATION:Universitätsklinikum Dresden\, Fetscherstraße 74\, Dresden\, 013
 07\, Deutschland
X-APPLE-STRUCTURED-LOCATION;VALUE=URI;X-ADDRESS=Fetscherstraße 74\, Dresde
 n\, 01307\, Deutschland;X-APPLE-RADIUS=100;X-TITLE=Universitätsklinikum D
 resden:geo:0,0
END:VEVENT
END:VCALENDAR