BEGIN:VCALENDAR
VERSION:2.0
PRODID:-//wp-events-plugin.com//7.2.3.1//EN
BEGIN:VEVENT
UID:463@carus-management.de
DTSTART;VALUE=DATE:20180906
DTEND;VALUE=DATE:20180907
DTSTAMP:20180810T100154Z
URL:https://www.carus-management.de/veranstaltungen/uro-wb-immunvermittelt
 e-nebenwirkungen-unter-immunonkologischer-therapie/
SUMMARY:URO - WB "Immunvermittelte Nebenwirkungen unter Immunonkologischer 
 Therapie"
DESCRIPTION:
LOCATION:Universitätsklinikum Dresden\, Fetscherstraße 74\, Dresden\, 013
 07\, Deutschland
X-APPLE-STRUCTURED-LOCATION;VALUE=URI;X-ADDRESS=Fetscherstraße 74\, Dresde
 n\, 01307\, Deutschland;X-APPLE-RADIUS=100;X-TITLE=Universitätsklinikum D
 resden:geo:0,0
END:VEVENT
END:VCALENDAR