BEGIN:VCALENDAR
VERSION:2.0
PRODID:-//wp-events-plugin.com//7.2.3.1//EN
BEGIN:VEVENT
UID:1492@carus-management.de
DTSTART:20260613T090000Z
DTEND:20260613T130000Z
DTSTAMP:20260417T105911Z
URL:https://www.carus-management.de/veranstaltungen/update-neurologie-2026
 /
SUMMARY:UPDATE Neurologie 2026
DESCRIPTION:Programm UPDATE Neurologie 2026[fusion_builder_container type="
 flex" hundred_percent="no" equal_height_columns="no" menu_anchor="" hide_o
 n_mobile="small-visibility\,medium-visibility\,large-visibility" class="" 
 id="" background_color="" background_image="" background_position="center 
 center" background_repeat="no-repeat" fade="no" background_parallax="none"
  parallax_speed="0.3" video_mp4="" video_webm="" video_ogv="" video_url=""
  video_aspect_ratio="16:9" video_loop="yes" video_mute="yes" overlay_color
 ="" video_preview_image="" border_color="" border_style="solid" padding_to
 p="" padding_bottom="" padding_left="" padding_right=""][fusion_builder_ro
 w][fusion_builder_column type="1_1" layout="1_1" background_position="left
  top" background_color="" border_color="" border_style="solid" border_posi
 tion="all" spacing="yes" background_image="" background_repeat="no-repeat"
  padding_top="" padding_right="" padding_bottom="" padding_left="" margin_
 top="0px" margin_bottom="0px" class="" id="" animation_type="" animation_s
 peed="0.3" animation_direction="left" hide_on_mobile="small-visibility\,me
 dium-visibility\,large-visibility" center_content="no" last="true" min_hei
 ght="" hover_type="none" link="" border_sizes_top="" border_sizes_bottom="
 " border_sizes_left="" border_sizes_right="" first="true"][fusion_text]\n\
 nFlyer FoBi Neurologie 2026[/fusion_text][/fusion_builder_column][/fusion_
 builder_row][/fusion_builder_container]
LOCATION:Universitätsklinikum Dresden\, Fetscherstraße 74\, Dresden\, 013
 07\, Deutschland
X-APPLE-STRUCTURED-LOCATION;VALUE=URI;X-ADDRESS=Fetscherstraße 74\, Dresde
 n\, 01307\, Deutschland;X-APPLE-RADIUS=100;X-TITLE=Universitätsklinikum D
 resden:geo:0,0
END:VEVENT
END:VCALENDAR