BEGIN:VCALENDAR
VERSION:2.0
PRODID:-//wp-events-plugin.com//7.2.3.1//EN
BEGIN:VEVENT
UID:656@carus-management.de
DTSTART:20200925T000000Z
DTEND:20200926T000000Z
DTSTAMP:20200924T114933Z
URL:https://www.carus-management.de/veranstaltungen/ucare-immuntherapiecur
 riculum-itc/
SUMMARY:UCARE - ImmunTherapieCurriculum (ITC)  -  verschoben auf 2021
DESCRIPTION:Die Veranstaltung wird auf 2021 verschoben!
LOCATION:Universitätsklinikum Dresden\, Fetscherstraße 74\, Dresden\, 013
 07\, Deutschland
X-APPLE-STRUCTURED-LOCATION;VALUE=URI;X-ADDRESS=Fetscherstraße 74\, Dresde
 n\, 01307\, Deutschland;X-APPLE-RADIUS=100;X-TITLE=Universitätsklinikum D
 resden:geo:0,0
END:VEVENT
END:VCALENDAR