BEGIN:VCALENDAR
VERSION:2.0
PRODID:-//wp-events-plugin.com//7.2.3.1//EN
BEGIN:VEVENT
UID:1174@carus-management.de
DTSTART:20240313T000000Z
DTEND:20240313T000000Z
DTSTAMP:20240205T110146Z
URL:https://www.carus-management.de/veranstaltungen/transfusionsmedizin-gr
 undkurs-online/
SUMMARY:Transfusionsmedizin Grundkurs - online
DESCRIPTION:
END:VEVENT
END:VCALENDAR