BEGIN:VCALENDAR
VERSION:2.0
PRODID:-//wp-events-plugin.com//7.2.3.1//EN
BEGIN:VEVENT
UID:1319@carus-management.de
DTSTART:20250619T150000Z
DTEND:20250619T190000Z
DTSTAMP:20250217T145758Z
URL:https://www.carus-management.de/veranstaltungen/transfusions-grundkurs
 -online/
SUMMARY:Transfusions-Grundkurs - Online
DESCRIPTION:
END:VEVENT
END:VCALENDAR