BEGIN:VCALENDAR
VERSION:2.0
PRODID:-//wp-events-plugin.com//7.2.3.1//EN
BEGIN:VEVENT
UID:1422@carus-management.de
DTSTART:20261021T170000Z
DTEND:20261021T183000Z
DTSTAMP:20251124T120126Z
URL:https://www.carus-management.de/veranstaltungen/transfusions-grundkurs
 -online-5/
SUMMARY:Transfusions-Grundkurs - Online
DESCRIPTION:
END:VEVENT
END:VCALENDAR