BEGIN:VCALENDAR
VERSION:2.0
PRODID:-//wp-events-plugin.com//7.2.3.1//EN
BEGIN:VEVENT
UID:1421@carus-management.de
DTSTART:20260617T170000Z
DTEND:20260617T183000Z
DTSTAMP:20251124T120049Z
URL:https://www.carus-management.de/veranstaltungen/transfusions-grundkurs
 -online-4/
SUMMARY:Transfusions-Grundkurs - Online
DESCRIPTION:
END:VEVENT
END:VCALENDAR