BEGIN:VCALENDAR
VERSION:2.0
PRODID:-//wp-events-plugin.com//7.2.3.1//EN
BEGIN:VEVENT
UID:1124@carus-management.de
DTSTART:20231215T120000Z
DTEND:20231215T180000Z
DTSTAMP:20231214T143434Z
URL:https://www.carus-management.de/veranstaltungen/symposium-gemeinsam-si
 nd-wir-stark-paediatrische-onkologie-und-protonentherapie-zur-verbesserung
 -der-krebsbehandlung-von-kindern-und-jugendlichen/
SUMMARY:Symposium "Gemeinsam sind wir stark" - Pädiatrische Onkologie und 
 Protonentherapie zur Verbesserung der Krebsbehandlung von Kindern und Juge
 ndlichen
DESCRIPTION:[fusion_builder_container type="flex" hundred_percent="no" equa
 l_height_columns="no" menu_anchor="" hide_on_mobile="small-visibility\,med
 ium-visibility\,large-visibility" class="" id="" background_color="" backg
 round_image="" background_position="center center" background_repeat="no-r
 epeat" fade="no" background_parallax="none" parallax_speed="0.3" video_mp4
 ="" video_webm="" video_ogv="" video_url="" video_aspect_ratio="16:9" vide
 o_loop="yes" video_mute="yes" overlay_color="" video_preview_image="" bord
 er_color="" border_style="solid" padding_top="" padding_bottom="" padding_
 left="" padding_right=""][fusion_builder_row][fusion_builder_column type="
 1_1" layout="1_1" background_position="left top" background_color="" borde
 r_color="" border_style="solid" border_position="all" spacing="yes" backgr
 ound_image="" background_repeat="no-repeat" padding_top="" padding_right="
 " padding_bottom="" padding_left="" margin_top="0px" margin_bottom="0px" c
 lass="" id="" animation_type="" animation_speed="0.3" animation_direction=
 "left" hide_on_mobile="small-visibility\,medium-visibility\,large-visibili
 ty" center_content="no" last="true" min_height="" hover_type="none" link="
 " border_sizes_top="" border_sizes_bottom="" border_sizes_left="" border_s
 izes_right="" first="true"][fusion_text][fusion_text][fusion_text][fusion_
 text][fusion_text][fusion_text]\n\nEinladung Symposium Protonentherapie 15
 . Dezember 2023\n\nOffenlegung Sponsor Symposium Protonentherapie 15. Deze
 mber 2023\n\n[/fusion_text][/fusion_builder_column][/fusion_builder_row][/
 fusion_builder_container][fusion_builder_container type="flex" hundred_per
 cent="no" equal_height_columns="no" menu_anchor="" hide_on_mobile="small-v
 isibility\,medium-visibility\,large-visibility" class="" id="" background_
 color="" background_image="" background_position="center center" backgroun
 d_repeat="no-repeat" fade="no" background_parallax="none" parallax_speed="
 0.3" video_mp4="" video_webm="" video_ogv="" video_url="" video_aspect_rat
 io="16:9" video_loop="yes" video_mute="yes" overlay_color="" video_preview
 _image="" border_color="" border_style="solid" padding_top="" padding_bott
 om="" padding_left="" padding_right=""][/fusion_builder_container]
LOCATION:OncoRay – National Center for Radiation Research in Oncology\, H
 ändelallee 26\, Dresden\, 01309\, Deutschland
X-APPLE-STRUCTURED-LOCATION;VALUE=URI;X-ADDRESS=Händelallee 26\, Dresden\,
  01309\, Deutschland;X-APPLE-RADIUS=100;X-TITLE=OncoRay – National Cente
 r for Radiation Research in Oncology:geo:0,0
END:VEVENT
END:VCALENDAR