BEGIN:VCALENDAR
VERSION:2.0
PRODID:-//wp-events-plugin.com//7.2.3.1//EN
BEGIN:VEVENT
UID:959@carus-management.de
DTSTART;VALUE=DATE:20220512
DTEND;VALUE=DATE:20220515
DTSTAMP:20220509T095046Z
URL:https://www.carus-management.de/veranstaltungen/sedierung-und-notfallm
 anagement-in-der-endoskopie/
SUMMARY:Sedierung und Notfallmanagement in der Endoskopie
DESCRIPTION:Programm - Sedierungskurs Mai 2022\n\n&nbsp\;\n\nBitte beachten
  Sie:\n\nDer Kurs ist ausgebucht\, es ist keine Anmeldung mehr möglich. V
 ielen Dank für Ihr Verständnis.
END:VEVENT
END:VCALENDAR