BEGIN:VCALENDAR
VERSION:2.0
PRODID:-//wp-events-plugin.com//7.2.3.1//EN
BEGIN:VEVENT
UID:389@carus-management.de
DTSTART:20180905T150000Z
DTEND:20180905T181500Z
DTSTAMP:20180712T121911Z
URL:https://www.carus-management.de/veranstaltungen/round-table/
SUMMARY:MK III - 2. Round Table "Stufentherapie bei Fettstoffwechselstörun
 gen"
DESCRIPTION:Round Table 2 Flyer_050918
LOCATION:Universitätsklinikum Dresden\, Fetscherstraße 74\, Dresden\, 013
 07\, Deutschland
X-APPLE-STRUCTURED-LOCATION;VALUE=URI;X-ADDRESS=Fetscherstraße 74\, Dresde
 n\, 01307\, Deutschland;X-APPLE-RADIUS=100;X-TITLE=Universitätsklinikum D
 resden:geo:0,0
END:VEVENT
END:VCALENDAR