BEGIN:VCALENDAR
VERSION:2.0
PRODID:-//wp-events-plugin.com//7.2.3.1//EN
BEGIN:VEVENT
UID:958@carus-management.de
DTSTART;VALUE=DATE:20220906
DTEND;VALUE=DATE:20220911
DTSTAMP:20220505T094035Z
URL:https://www.carus-management.de/veranstaltungen/ressourcen-therapie-mi
 t-prof-gordon-emmerson/
SUMMARY:Ressourcen-Therapie mit Prof. Gordon Emmerson
DESCRIPTION:Gordon Emmerson Resource Therapy TEIL II_2022
END:VEVENT
END:VCALENDAR