BEGIN:VCALENDAR
VERSION:2.0
PRODID:-//wp-events-plugin.com//7.2.3.1//EN
BEGIN:VEVENT
UID:528@carus-management.de
DTSTART;VALUE=DATE:20190328
DTEND;VALUE=DATE:20190330
DTSTAMP:20190313T102105Z
URL:https://www.carus-management.de/veranstaltungen/rad-workshop-leber-und
 -prostataembolisation/
SUMMARY:RAD - Workshop Leber-und Prostataembolisation
DESCRIPTION:Der Workshop findet zum a.g. Termin nicht statt und wird voraus
 sichtlich auf Herbst 2019 verschoben.\n\nWeitere Details folgen in Kürze.
LOCATION:Universitätsklinikum Dresden\, Fetscherstraße 74\, Dresden\, 013
 07\, Deutschland
X-APPLE-STRUCTURED-LOCATION;VALUE=URI;X-ADDRESS=Fetscherstraße 74\, Dresde
 n\, 01307\, Deutschland;X-APPLE-RADIUS=100;X-TITLE=Universitätsklinikum D
 resden:geo:0,0
END:VEVENT
END:VCALENDAR