BEGIN:VCALENDAR
VERSION:2.0
PRODID:-//wp-events-plugin.com//7.2.3.1//EN
BEGIN:VEVENT
UID:695@carus-management.de
DTSTART:20200317T130000Z
DTEND:20200317T160000Z
DTSTAMP:20200312T095528Z
URL:https://www.carus-management.de/veranstaltungen/psych-symposium-zur-fr
 ueherkennung-psychischer-stoerungen/
SUMMARY:PSYCH - Symposium zur Früherkennung psychischer Störungen - AUSFA
 LL
DESCRIPTION:Veranstaltung fällt aus!
END:VEVENT
END:VCALENDAR