BEGIN:VCALENDAR
VERSION:2.0
PRODID:-//wp-events-plugin.com//7.2.3.1//EN
BEGIN:VEVENT
UID:638@carus-management.de
DTSTART:20191127T150000Z
DTEND:20191127T170000Z
DTSTAMP:20191016T152452Z
URL:https://www.carus-management.de/veranstaltungen/psych-fortbildung-symp
 tome-und-diagnostik-der-adulten-adhs/
SUMMARY:PSYCH - Fortbildung "Symptome und Diagnostik der adulten ADHS"
DESCRIPTION:FB - Symptome und Diagnostik der adulten ADHS 27.11.19
END:VEVENT
END:VCALENDAR