BEGIN:VCALENDAR
VERSION:2.0
PRODID:-//wp-events-plugin.com//7.2.3.1//EN
BEGIN:VEVENT
UID:520@carus-management.de
DTSTART:20190513T160000Z
DTEND:20190513T190000Z
DTSTAMP:20190416T092017Z
URL:https://www.carus-management.de/veranstaltungen/pso-supervision-mit-dr
 -michael-hase/
SUMMARY:PSO - Supervision mit Dr. Michael Hase
DESCRIPTION:EMDR_mit Dr. Hase_13.05.19
END:VEVENT
END:VCALENDAR