BEGIN:VCALENDAR
VERSION:2.0
PRODID:-//wp-events-plugin.com//7.2.3.1//EN
BEGIN:VEVENT
UID:511@carus-management.de
DTSTART;VALUE=DATE:20190501
DTEND;VALUE=DATE:20190506
DTSTAMP:20190123T142250Z
URL:https://www.carus-management.de/veranstaltungen/pso-resource-therapy-m
 it-prof-gordon-emmerson/
SUMMARY:PSO - Resource Therapy mit Prof. Gordon Emmerson
DESCRIPTION:Ressourcen Therapie mit Emmerson
END:VEVENT
END:VCALENDAR