BEGIN:VCALENDAR
VERSION:2.0
PRODID:-//wp-events-plugin.com//7.2.3.1//EN
BEGIN:VEVENT
UID:120@carus-management.de
DTSTART:20170607T120000Z
DTEND:20170607T151500Z
DTSTAMP:20180417T085831Z
URL:https://www.carus-management.de/veranstaltungen/pso-bewegende-themen/
SUMMARY:PSO - Bewegende Themen
DESCRIPTION:2017_BewegendeThemen_Programm
END:VEVENT
END:VCALENDAR