BEGIN:VCALENDAR
VERSION:2.0
PRODID:-//wp-events-plugin.com//7.2.3.1//EN
BEGIN:VEVENT
UID:983@carus-management.de
DTSTART;VALUE=DATE:20221209
DTEND;VALUE=DATE:20221210
DTSTAMP:20221208T161305Z
URL:https://www.carus-management.de/veranstaltungen/pso-15-fachtagung-trau
 manetz-seelische-gesundheit/
SUMMARY:PSO - 15. Fachtagung Traumanetz Seelische Gesundheit
DESCRIPTION:15. Fachtagung Traumanetz Seelische Gesundheit_09.12.2022
LOCATION:Haus der Kirche Dresden - Dreikönigskirche\, Hauptstr. 23\, Dresd
 en\, 01097\, Deutschland
X-APPLE-STRUCTURED-LOCATION;VALUE=URI;X-ADDRESS=Hauptstr. 23\, Dresden\, 01
 097\, Deutschland;X-APPLE-RADIUS=100;X-TITLE=Haus der Kirche Dresden - Dre
 ikönigskirche:geo:0,0
END:VEVENT
END:VCALENDAR