BEGIN:VCALENDAR
VERSION:2.0
PRODID:-//wp-events-plugin.com//7.2.3.1//EN
BEGIN:VEVENT
UID:762@carus-management.de
DTSTART;VALUE=DATE:20201127
DTEND;VALUE=DATE:20201128
DTSTAMP:20201103T082905Z
URL:https://www.carus-management.de/veranstaltungen/pso-13-fachtagung-trau
 manetz-seelische-gesundheit/
SUMMARY:PSO - 13. Fachtagung Traumanetz Seelische Gesundheit - digital
DESCRIPTION:Programm_TSG2020_Online
LOCATION:virtuelle Veranstaltung\,  \,  \, Deutschland
X-APPLE-STRUCTURED-LOCATION;VALUE=URI;X-ADDRESS= \,  \, Deutschland;X-APPLE
 -RADIUS=100;X-TITLE=virtuelle Veranstaltung:geo:0,0
END:VEVENT
END:VCALENDAR