BEGIN:VCALENDAR
VERSION:2.0
PRODID:-//wp-events-plugin.com//7.2.3.1//EN
BEGIN:VEVENT
UID:631@carus-management.de
DTSTART;VALUE=DATE:20191115
DTEND;VALUE=DATE:20191116
DTSTAMP:20190916T094421Z
URL:https://www.carus-management.de/veranstaltungen/pso-12-fachtagung-trau
 manetz-seelische-gesundheit/
SUMMARY:PSO - 12. Fachtagung Traumanetz Seelische Gesundheit
DESCRIPTION:Programm_Traumanetz_15.11.19
END:VEVENT
END:VCALENDAR