BEGIN:VCALENDAR
VERSION:2.0
PRODID:-//wp-events-plugin.com//7.2.3.1//EN
BEGIN:VEVENT
UID:982@carus-management.de
DTSTART:20221004T170000Z
DTEND:20221004T183000Z
DTSTAMP:20220906T095838Z
URL:https://www.carus-management.de/veranstaltungen/patientenpodcast-des-m
 s-zentrums-ausdauertraining-und-ms/
SUMMARY:Patientenpodcast des MS-Zentrums "Ausdauertraining und MS?"
DESCRIPTION:Flyer_Patientenpodcast_04_Okt_2022
END:VEVENT
END:VCALENDAR