BEGIN:VCALENDAR
VERSION:2.0
PRODID:-//wp-events-plugin.com//7.2.3.1//EN
BEGIN:VEVENT
UID:1073@carus-management.de
DTSTART:20230606T170000Z
DTEND:20230606T183000Z
DTSTAMP:20230515T075039Z
URL:https://www.carus-management.de/veranstaltungen/patientenpodcast-dem-u
 rsprung-der-ms-auf-der-spur/
SUMMARY:Patientenpodcast "Dem Ursprung der MS auf der Spur"
DESCRIPTION:Patientenpodcast_06_06_2023
END:VEVENT
END:VCALENDAR