BEGIN:VCALENDAR
VERSION:2.0
PRODID:-//wp-events-plugin.com//7.2.3.1//EN
BEGIN:VEVENT
UID:967@carus-management.de
DTSTART:20220705T170000Z
DTEND:20220705T183000Z
DTSTAMP:20220630T083411Z
URL:https://www.carus-management.de/veranstaltungen/patientenfortbildung-d
 es-msz-therapieupdate-ms-nmo/
SUMMARY:Patientenfortbildung des MSZ: Therapieupdate MS/NMO
DESCRIPTION:Flyer_Patientenpodcast_05_Juli_2022
LOCATION:virtuelle Veranstaltung\,  \,  \, Deutschland
X-APPLE-STRUCTURED-LOCATION;VALUE=URI;X-ADDRESS= \,  \, Deutschland;X-APPLE
 -RADIUS=100;X-TITLE=virtuelle Veranstaltung:geo:0,0
END:VEVENT
END:VCALENDAR