BEGIN:VCALENDAR
VERSION:2.0
PRODID:-//wp-events-plugin.com//7.2.3.1//EN
BEGIN:VEVENT
UID:1425@carus-management.de
DTSTART:20260113T170000Z
DTEND:20260113T183000Z
DTSTAMP:20260108T084144Z
URL:https://www.carus-management.de/veranstaltungen/patienten-podcasts-des
 -ms-zentrums-ms-im-fluss-was-uns-der-liquor-verraet/
SUMMARY:Patienten-Podcasts des MS-Zentrums "MS im Fluss: Was uns der Liquor
  verrät"
DESCRIPTION:Patientenpodcast_13_01_2026
END:VEVENT
END:VCALENDAR