BEGIN:VCALENDAR
VERSION:2.0
PRODID:-//wp-events-plugin.com//7.2.3.1//EN
BEGIN:VEVENT
UID:1453@carus-management.de
DTSTART:20260203T170000Z
DTEND:20260203T183000Z
DTSTAMP:20260127T065220Z
URL:https://www.carus-management.de/veranstaltungen/patienten-podcast-zwil
 lingsforschung-bei-ms/
SUMMARY:Patienten-Podcast "Zwillingsforschung bei MS"
DESCRIPTION:Patientenpodcast_03_02_2026
END:VEVENT
END:VCALENDAR