BEGIN:VCALENDAR
VERSION:2.0
PRODID:-//wp-events-plugin.com//7.2.3.1//EN
BEGIN:VEVENT
UID:103@carus-management.de
DTSTART:20170427T220000Z
DTEND:20170428T220000Z
DTSTAMP:20180417T082107Z
URL:https://www.carus-management.de/veranstaltungen/path-pd-l1-training/
SUMMARY:PATH - PD-L1 Training
DESCRIPTION:PD-L1TrainingAgendaDresden28-29.04.17
END:VEVENT
END:VCALENDAR