BEGIN:VCALENDAR
VERSION:2.0
PRODID:-//wp-events-plugin.com//7.2.3.1//EN
BEGIN:VEVENT
UID:1370@carus-management.de
DTSTART:20250910T150000Z
DTEND:20250910T160000Z
DTSTAMP:20250818T061233Z
URL:https://www.carus-management.de/veranstaltungen/parkinson-treff-4/
SUMMARY:Parkinson-Treff
DESCRIPTION:Flyer Parkinson-Treffen 2025 final[fusion_builder_container typ
 e="flex" hundred_percent="no" equal_height_columns="no" menu_anchor="" hid
 e_on_mobile="small-visibility\,medium-visibility\,large-visibility" class=
 "" id="" background_color="" background_image="" background_position="cent
 er center" background_repeat="no-repeat" fade="no" background_parallax="no
 ne" parallax_speed="0.3" video_mp4="" video_webm="" video_ogv="" video_url
 ="" video_aspect_ratio="16:9" video_loop="yes" video_mute="yes" overlay_co
 lor="" video_preview_image="" border_color="" border_style="solid" padding
 _top="" padding_bottom="" padding_left="" padding_right=""][fusion_builder
 _row][fusion_builder_column type="1_1" layout="1_1" background_position="l
 eft top" background_color="" border_color="" border_style="solid" border_p
 osition="all" spacing="yes" background_image="" background_repeat="no-repe
 at" padding_top="" padding_right="" padding_bottom="" padding_left="" marg
 in_top="0px" margin_bottom="0px" class="" id="" animation_type="" animatio
 n_speed="0.3" animation_direction="left" hide_on_mobile="small-visibility\
 ,medium-visibility\,large-visibility" center_content="no" last="true" min_
 height="" hover_type="none" link="" border_sizes_top="" border_sizes_botto
 m="" border_sizes_left="" border_sizes_right="" first="true"][/fusion_buil
 der_column][/fusion_builder_row][/fusion_builder_container]
LOCATION:Universitätsklinikum Dresden\, Fetscherstraße 74\, Dresden\, 013
 07\, Deutschland
X-APPLE-STRUCTURED-LOCATION;VALUE=URI;X-ADDRESS=Fetscherstraße 74\, Dresde
 n\, 01307\, Deutschland;X-APPLE-RADIUS=100;X-TITLE=Universitätsklinikum D
 resden:geo:0,0
END:VEVENT
END:VCALENDAR