BEGIN:VCALENDAR
VERSION:2.0
PRODID:-//wp-events-plugin.com//7.2.3.1//EN
BEGIN:VEVENT
UID:730@carus-management.de
DTSTART:20200911T070000Z
DTEND:20200911T144500Z
DTSTAMP:20200909T113909Z
URL:https://www.carus-management.de/veranstaltungen/ouc-3-dresdner-notfall
 -tag-3-dnt/
SUMMARY:OUC - 3. Dresdner Notfall Tag (3. DNT)
DESCRIPTION:Flyer_3. DNT 2020\n\nPoster_Programm+Sponsoren_3. DNT 2020\n\nB
 itte beachten Sie\, dass die Veranstaltung ausgebucht ist!
LOCATION:Universitätsklinikum Dresden\, Fetscherstraße 74\, Dresden\, 013
 07\, Deutschland
X-APPLE-STRUCTURED-LOCATION;VALUE=URI;X-ADDRESS=Fetscherstraße 74\, Dresde
 n\, 01307\, Deutschland;X-APPLE-RADIUS=100;X-TITLE=Universitätsklinikum D
 resden:geo:0,0
END:VEVENT
END:VCALENDAR