BEGIN:VCALENDAR
VERSION:2.0
PRODID:-//wp-events-plugin.com//7.2.3.1//EN
BEGIN:VEVENT
UID:1244@carus-management.de
DTSTART;VALUE=DATE:20241205
DTEND;VALUE=DATE:20241207
DTSTAMP:20241203T142254Z
URL:https://www.carus-management.de/veranstaltungen/oncoray-symposium-10-j
 ahre-protonentherapie/
SUMMARY:OncoRay - Symposium "10 Jahre Protonentherapie"
DESCRIPTION:[fusion_builder_container type="flex" hundred_percent="no" equa
 l_height_columns="no" menu_anchor="" hide_on_mobile="small-visibility\,med
 ium-visibility\,large-visibility" class="" id="" background_color="" backg
 round_image="" background_position="center center" background_repeat="no-r
 epeat" fade="no" background_parallax="none" parallax_speed="0.3" video_mp4
 ="" video_webm="" video_ogv="" video_url="" video_aspect_ratio="16:9" vide
 o_loop="yes" video_mute="yes" overlay_color="" video_preview_image="" bord
 er_color="" border_style="solid" padding_top="" padding_bottom="" padding_
 left="" padding_right=""][fusion_builder_row][fusion_builder_column type="
 1_1" layout="1_1" background_position="left top" background_color="" borde
 r_color="" border_style="solid" border_position="all" spacing="yes" backgr
 ound_image="" background_repeat="no-repeat" padding_top="" padding_right="
 " padding_bottom="" padding_left="" margin_top="0px" margin_bottom="0px" c
 lass="" id="" animation_type="" animation_speed="0.3" animation_direction=
 "left" hide_on_mobile="small-visibility\,medium-visibility\,large-visibili
 ty" center_content="no" last="true" min_height="" hover_type="none" link="
 " border_sizes_top="" border_sizes_bottom="" border_sizes_left="" border_s
 izes_right="" first="true"][fusion_text]\n\nAgenda_10 Jahre Protonentherap
 ie 2024[/fusion_text][/fusion_builder_column][/fusion_builder_row][/fusion
 _builder_container][fusion_builder_container type="flex" hundred_percent="
 no" equal_height_columns="no" menu_anchor="" hide_on_mobile="small-visibil
 ity\,medium-visibility\,large-visibility" class="" id="" background_color=
 "" background_image="" background_position="center center" background_repe
 at="no-repeat" fade="no" background_parallax="none" parallax_speed="0.3" v
 ideo_mp4="" video_webm="" video_ogv="" video_url="" video_aspect_ratio="16
 :9" video_loop="yes" video_mute="yes" overlay_color="" video_preview_image
 ="" border_color="" border_style="solid" padding_top="" padding_bottom="" 
 padding_left="" padding_right=""][fusion_builder_row][fusion_builder_colum
 n type="1_1" layout="1_1" background_position="left top" background_color=
 "" border_color="" border_style="solid" border_position="all" spacing="yes
 " background_image="" background_repeat="no-repeat" padding_top="" padding
 _right="" padding_bottom="" padding_left="" margin_top="0px" margin_bottom
 ="0px" class="" id="" animation_type="" animation_speed="0.3" animation_di
 rection="left" hide_on_mobile="small-visibility\,medium-visibility\,large-
 visibility" center_content="no" last="true" min_height="" hover_type="none
 " link="" border_sizes_top="" border_sizes_bottom="" border_sizes_left="" 
 border_sizes_right="" first="true"][fusion_text][fusion_text]\n\nOffenlegu
 ng_10 Jahre Protonentherapie 2024
END:VEVENT
END:VCALENDAR