BEGIN:VCALENDAR
VERSION:2.0
PRODID:-//wp-events-plugin.com//7.2.3.1//EN
BEGIN:VEVENT
UID:532@carus-management.de
DTSTART;VALUE=DATE:20191127
DTEND;VALUE=DATE:20191130
DTSTAMP:20190916T094954Z
URL:https://www.carus-management.de/veranstaltungen/oncoray-klinische-stra
 hlenbiologie-fuer-aerzte-in-der-weiterbildung-zum-radioonkologen-3/
SUMMARY:Oncoray - Klinische Strahlenbiologie für Ärzte in der Weiterbildu
 ng zum Radioonkologen
DESCRIPTION:Anmeldung KlinStrBiol 2019 Programm KlinStrBiol 2019_27.-29.11.
 19
END:VEVENT
END:VCALENDAR