BEGIN:VCALENDAR
VERSION:2.0
PRODID:-//wp-events-plugin.com//7.2.3.1//EN
BEGIN:VEVENT
UID:603@carus-management.de
DTSTART;VALUE=DATE:20191107
DTEND;VALUE=DATE:20191110
DTSTAMP:20190418T101159Z
URL:https://www.carus-management.de/veranstaltungen/oncoray-fachkundekurs-
 und-aktualisierungskurs-fuer-die-partikeltherapie/
SUMMARY:OncoRay - Fachkundekurs und Aktualisierungskurs für die Partikelth
 erapie
DESCRIPTION:Anmeldeformular Partikelkurs_07.-09.11.19 Partikeltherapiekurs_
 07.-09.11.19
END:VEVENT
END:VCALENDAR