BEGIN:VCALENDAR
VERSION:2.0
PRODID:-//wp-events-plugin.com//7.2.3.1//EN
BEGIN:VEVENT
UID:913@carus-management.de
DTSTART:20211124T000000Z
DTEND:20211126T000000Z
DTSTAMP:20211122T103053Z
URL:https://www.carus-management.de/veranstaltungen/oncoray-27-dresdner-we
 iterbildungsveranstaltung-klinische-strahlenbiologie-fuer-aerzte-in-der-we
 iterbildung-zum-radioonkologen-digital/
SUMMARY:OncoRay - 27. Dresdner Weiterbildungsveranstaltung "Klinische Strah
 lenbiologie für Ärzte in der Weiterbildung zum Radioonkologen" - DIGITAL
DESCRIPTION:
END:VEVENT
END:VCALENDAR