BEGIN:VCALENDAR
VERSION:2.0
PRODID:-//wp-events-plugin.com//7.2.3.1//EN
BEGIN:VEVENT
UID:1222@carus-management.de
DTSTART:20240619T150000Z
DTEND:20240619T160000Z
DTSTAMP:20240619T131101Z
URL:https://www.carus-management.de/veranstaltungen/neurologische-patiente
 nseminarreihe-parkinson-treff/
SUMMARY:Neurologische Patientenseminarreihe "Parkinson-Treff"
DESCRIPTION:Plakat_Parkinson-Treff
LOCATION:Universitätsklinikum Dresden\, Fetscherstraße 74\, Dresden\, 013
 07\, Deutschland
X-APPLE-STRUCTURED-LOCATION;VALUE=URI;X-ADDRESS=Fetscherstraße 74\, Dresde
 n\, 01307\, Deutschland;X-APPLE-RADIUS=100;X-TITLE=Universitätsklinikum D
 resden:geo:0,0
END:VEVENT
END:VCALENDAR