BEGIN:VCALENDAR
VERSION:2.0
PRODID:-//wp-events-plugin.com//7.2.3.1//EN
BEGIN:VEVENT
UID:290@carus-management.de
DTSTART;VALUE=DATE:20160905
DTEND;VALUE=DATE:20160910
DTSTAMP:20180419T133133Z
URL:https://www.carus-management.de/veranstaltungen/neu-summer-scool-junge
 -neurologen/
SUMMARY:NEU - Summer Scool Junge Neurologen
DESCRIPTION:
END:VEVENT
END:VCALENDAR