BEGIN:VCALENDAR
VERSION:2.0
PRODID:-//wp-events-plugin.com//7.2.3.1//EN
BEGIN:VEVENT
UID:477@carus-management.de
DTSTART;VALUE=DATE:20181110
DTEND;VALUE=DATE:20181111
DTSTAMP:20181016T131112Z
URL:https://www.carus-management.de/veranstaltungen/neu-parkinsonnetzwerk-
 ostsachsen/
SUMMARY:NEU - ParkinsonNetzwerk Ostsachsen
DESCRIPTION:UCC_PaZ_Flyer6Sei_DINlng_2018 10 04-Ansicht (3)
LOCATION:Universitätsklinikum Dresden\, Fetscherstraße 74\, Dresden\, 013
 07\, Deutschland
X-APPLE-STRUCTURED-LOCATION;VALUE=URI;X-ADDRESS=Fetscherstraße 74\, Dresde
 n\, 01307\, Deutschland;X-APPLE-RADIUS=100;X-TITLE=Universitätsklinikum D
 resden:geo:0,0
END:VEVENT
END:VCALENDAR