BEGIN:VCALENDAR
VERSION:2.0
PRODID:-//wp-events-plugin.com//7.2.3.1//EN
BEGIN:VEVENT
UID:916@carus-management.de
DTSTART:20211209T170000Z
DTEND:20211209T200000Z
DTSTAMP:20211201T095424Z
URL:https://www.carus-management.de/veranstaltungen/neu-msz-weihnachtsspec
 ial-zum-ms-tag-2-teil-virtuell/
SUMMARY:NEU-MSZ - "Weihnachtsspecial" zum MS-Tag 2. Teil - virtuell
DESCRIPTION:Flyer_MS-Tag_07.+09.12.21
END:VEVENT
END:VCALENDAR