BEGIN:VCALENDAR
VERSION:2.0
PRODID:-//wp-events-plugin.com//7.2.3.1//EN
BEGIN:VEVENT
UID:897@carus-management.de
DTSTART:20211005T170000Z
DTEND:20211005T183000Z
DTSTAMP:20210913T072449Z
URL:https://www.carus-management.de/veranstaltungen/neu-msz-patientenveran
 staltung-schlaf-und-ms-digital/
SUMMARY:NEU-MSZ - Patientenveranstaltung "Schlaf und MS" - digital
DESCRIPTION:Flyer_Patienten_Fobi_051021
END:VEVENT
END:VCALENDAR