BEGIN:VCALENDAR
VERSION:2.0
PRODID:-//wp-events-plugin.com//7.2.3.1//EN
BEGIN:VEVENT
UID:790@carus-management.de
DTSTART:20210803T170000Z
DTEND:20210803T183000Z
DTSTAMP:20210723T092053Z
URL:https://www.carus-management.de/veranstaltungen/neu-msz-patientenveran
 staltung-mrts-bei-ms-digital/
SUMMARY:NEU-MSZ - Patientenveranstaltung "MRTs bei MS" - digital
DESCRIPTION:Flyer_Patienten_VA_030821
END:VEVENT
END:VCALENDAR