BEGIN:VCALENDAR
VERSION:2.0
PRODID:-//wp-events-plugin.com//7.2.3.1//EN
BEGIN:VEVENT
UID:948@carus-management.de
DTSTART:20220503T170000Z
DTEND:20220503T183000Z
DTSTAMP:20220413T103400Z
URL:https://www.carus-management.de/veranstaltungen/neu-msz-patientenpodca
 st-schub-aus-unterschiedlichen-perspektiven/
SUMMARY:NEU-MSZ - Patientenpodcast: Schub aus unterschiedlichen Perspektive
 n
DESCRIPTION:Flyer Patientenpodcast_03_Mai_2022
END:VEVENT
END:VCALENDAR