BEGIN:VCALENDAR
VERSION:2.0
PRODID:-//wp-events-plugin.com//7.2.3.1//EN
BEGIN:VEVENT
UID:939@carus-management.de
DTSTART:20220301T170000Z
DTEND:20220301T183000Z
DTSTAMP:20220208T154333Z
URL:https://www.carus-management.de/veranstaltungen/neu-msz-patientenpodca
 st-depression-und-ms/
SUMMARY:NEU-MSZ - Patientenpodcast: Depression und MS
DESCRIPTION:Patientenpodcast_01_Mar_2022
END:VEVENT
END:VCALENDAR