BEGIN:VCALENDAR
VERSION:2.0
PRODID:-//wp-events-plugin.com//7.2.3.1//EN
BEGIN:VEVENT
UID:391@carus-management.de
DTSTART:20180807T150000Z
DTEND:20180807T163000Z
DTSTAMP:20180702T083252Z
URL:https://www.carus-management.de/veranstaltungen/neu-msz-patientenfortb
 ildung-ms-zentrum-therapieupdate/
SUMMARY:NEU-MSZ - Patientenfortbildung MS-Zentrum - Therapieupdate
DESCRIPTION:Flyer_MSFobi2018_Stand_27.06.18
END:VEVENT
END:VCALENDAR