BEGIN:VCALENDAR
VERSION:2.0
PRODID:-//wp-events-plugin.com//7.2.3.1//EN
BEGIN:VEVENT
UID:667@carus-management.de
DTSTART:20200303T150000Z
DTEND:20200303T163000Z
DTSTAMP:20200217T080205Z
URL:https://www.carus-management.de/veranstaltungen/neu-msz-patienten-fort
 bildung-fatigue-das-unsichtbare-symptom-nr-1-bei-ms/
SUMMARY:NEU-MSZ - Patienten Fortbildung: Fatigue  - das "unsichtbare" Sympt
 om Nr. 1 bei MS
DESCRIPTION:Flyer_Patienten Fobi2020
LOCATION:Universitätsklinikum Dresden\, Fetscherstraße 74\, Dresden\, 013
 07\, Deutschland
X-APPLE-STRUCTURED-LOCATION;VALUE=URI;X-ADDRESS=Fetscherstraße 74\, Dresde
 n\, 01307\, Deutschland;X-APPLE-RADIUS=100;X-TITLE=Universitätsklinikum D
 resden:geo:0,0
END:VEVENT
END:VCALENDAR